BEGIN:VCALENDAR
VERSION:2.0
PRODID:-//AVM Wisconsin - ECPv6.15.20//NONSGML v1.0//EN
CALSCALE:GREGORIAN
METHOD:PUBLISH
X-WR-CALNAME:AVM Wisconsin
X-ORIGINAL-URL:https://avmwi.org
X-WR-CALDESC:Events for AVM Wisconsin
REFRESH-INTERVAL;VALUE=DURATION:PT1H
X-Robots-Tag:noindex
X-PUBLISHED-TTL:PT1H
BEGIN:VTIMEZONE
TZID:America/Chicago
BEGIN:DAYLIGHT
TZOFFSETFROM:-0600
TZOFFSETTO:-0500
TZNAME:CDT
DTSTART:20250309T080000
END:DAYLIGHT
BEGIN:STANDARD
TZOFFSETFROM:-0500
TZOFFSETTO:-0600
TZNAME:CST
DTSTART:20251102T070000
END:STANDARD
BEGIN:DAYLIGHT
TZOFFSETFROM:-0600
TZOFFSETTO:-0500
TZNAME:CDT
DTSTART:20260308T080000
END:DAYLIGHT
BEGIN:STANDARD
TZOFFSETFROM:-0500
TZOFFSETTO:-0600
TZNAME:CST
DTSTART:20261101T070000
END:STANDARD
BEGIN:DAYLIGHT
TZOFFSETFROM:-0600
TZOFFSETTO:-0500
TZNAME:CDT
DTSTART:20270314T080000
END:DAYLIGHT
BEGIN:STANDARD
TZOFFSETFROM:-0500
TZOFFSETTO:-0600
TZNAME:CST
DTSTART:20271107T070000
END:STANDARD
END:VTIMEZONE
BEGIN:VEVENT
DTSTART;TZID=America/Chicago:20260421T090000
DTEND;TZID=America/Chicago:20260421T103000
DTSTAMP:20260423T093858
CREATED:20260314T175843Z
LAST-MODIFIED:20260314T220419Z
UID:1207-1776762000-1776767400@avmwi.org
SUMMARY:From Interest to Commitment: Rethinking Volunteer Recruitment & Onboarding
DESCRIPTION:Are you a nonprofit volunteer manager looking to enhance your organizational impact? Join us for an engaging workshop that explores how artificial intelligence can revolutionize your volunteer management strategies! \nToday’s volunteers have more choices and less time than ever before\, which means our recruitment and onboarding approaches must be clear\, compelling\, and efficient. This workshop helps volunteer managers reimagine how they attract\, welcome\, and activate volunteers so that more people move from “interested” to “I’m in.” \nBy the end\, participants will walk away with updated role descriptions\, a simple recruitment message\, and a more engaging onboarding experience they can implement right away. \n\nLearning objectives\nParticipants will be able to: \n\nIdentify at least three priority audiences and channels for volunteer recruitment at their organization.\nRewrite one volunteer role description to be clearer\, more inclusive\, and outcome-focused.\nMap a streamlined onboarding journey from first contact through the first 90 days.\nDraft or refine a welcome email/orientation script that sets volunteers up for success.\n\n\nIdeal audience\n\nVolunteer coordinators/managers (paid or volunteer)\nProgram staff who supervise volunteers\n“Accidental” volunteer managers in small shops\nNewer staff who inherited an existing volunteer program\n\n\nReserve Your Spot Today!\nSpaces are limited\, so secure your place now! See below to register and take the first step towards a more effective and engaging volunteer program.
URL:https://avmwi.org/event/from-interest-to-commitment/
LOCATION:TBA
CATEGORIES:Education,Networking,Workshop
ATTACH;FMTTYPE=image/jpeg:https://avmwi.org/wp-content/uploads/2025/06/outward-bound-costa-rica-DZpptolimCg-unsplash-scaled.jpg
ORGANIZER;CN="AVM Wisconsin":MAILTO:admin@avmwi.org
END:VEVENT
END:VCALENDAR